BEGIN:VCALENDAR
VERSION:2.0
PRODID:-//hacksw/handcal//NONSGML v1.0//EN
BEGIN:VEVENT
SUMMARY:PAS DE COURS
UID:552db816-385b-47ce-ab33-814cd3ca2d3d
DTSTART:20260514T220000Z
DTEND:20260515T220000Z
LOCATION:Localisation   
CATEGORIES:Sportif
STATUS:
URL;VALUE=URI:https://www.ksvp33.fr/evenements/2026/05/15/pas-de-cours-2423604
END:VEVENT
END:VCALENDAR
